BEGIN:VCALENDAR
VERSION:2.0
PRODID:-//ChamberMaster//Event Calendar 2.0//EN
METHOD:PUBLISH
X-PUBLISHED-TTL:P3D
REFRESH-INTERVAL:P3D
CALSCALE:GREGORIAN
BEGIN:VEVENT
DTSTART:20240914T160000Z
DTEND:20240914T213000Z
X-MICROSOFT-CDO-ALLDAYEVENT:FALSE
SUMMARY:Coin Show!
DESCRIPTION:Coin Show! Buy\, sell\, trade or find out what Granny gave ya! Andy Ellis\, Member of the American Numismatic Association\, Life member of Northwest Arkansas Coin Club & a lifelong collector will be on hand to assist you!
X-ALT-DESC;FMTTYPE=text/html:Coin Show! Buy\, sell\, trade or find out what Granny gave ya! Andy Ellis\, Member of the American Numismatic Association\, Life member of Northwest Arkansas Coin Club &amp\; a lifelong collector will be on hand to assist you!&nbsp\;
LOCATION:Biz-Z-Bee Super Flea! 366 Hwy 21 N Berryville\, AR.
UID:e.2943.339
SEQUENCE:3
DTSTAMP:20260421T000114Z
URL:https://www.berryvillechamber.com/events/details/coin-show-09-14-2024-339
END:VEVENT

END:VCALENDAR
