BEGIN:VCALENDAR
VERSION:2.0
PRODID:-//ChamberMaster//Event Calendar 2.0//EN
METHOD:PUBLISH
X-PUBLISHED-TTL:P3D
REFRESH-INTERVAL:P3D
CALSCALE:GREGORIAN
BEGIN:VEVENT
DTSTART:20251206T231500Z
DTEND:20251207T000000Z
X-MICROSOFT-CDO-ALLDAYEVENT:FALSE
SUMMARY:Coffee\, Hot Chocolate & Apple Cider Compliments of Chester Insurance Group before the parade
DESCRIPTION:Please join us for coffee\, hot chocolate or hot apple cider before the annual Christmas Parade.   The team at Chester Insurance Group will serve up your favorite hot beverage between 5:15 pm - 6:00 pm to enjoy before or during the parade.   Parade begins at 6:00 pm.
X-ALT-DESC;FMTTYPE=text/html:Please join us for coffee\, hot chocolate or hot apple cider before the annual Christmas Parade.&nbsp\; &nbsp\;The team at Chester Insurance Group will serve up your favorite hot beverage between 5:15 pm - 6:00 pm to enjoy before or during the parade.&nbsp\; &nbsp\;Parade begins at 6:00 pm.&nbsp\;
LOCATION:Chester Insurance Group at 305 Eureka Ave\, Berryville. Across from Harter House
UID:e.2943.950
SEQUENCE:3
DTSTAMP:20260419T221452Z
URL:https://www.berryvillechamber.com/events/details/coffee-hot-chocolate-apple-cider-compliments-of-chester-insurance-group-before-the-parade-950
END:VEVENT

END:VCALENDAR
