BEGIN:VCALENDAR
VERSION:2.0
PRODID:-//ChamberMaster//Event Calendar 2.0//EN
METHOD:PUBLISH
X-PUBLISHED-TTL:P3D
REFRESH-INTERVAL:P3D
CALSCALE:GREGORIAN
BEGIN:VEVENT
DTSTART:20241207T210000Z
DTEND:20241207T233000Z
X-MICROSOFT-CDO-ALLDAYEVENT:FALSE
SUMMARY:Christmas on the Square and Tree Lighting Ceremony
DESCRIPTION:3rd Annual Christmas on the Square and Berryville Tree Lighting Ceremony\, happening before the Berryville Parade on December 7th! Festivities kick off at 3 PM in the public square.\n\n\n\nWe'll have activities for all ages and can't wait to celebrate Christmas with the whole community! Enjoy storytime\, crafts\, giveaways\, appearances by the Grinch and Santa\, and much more!\n\n\n\nThe Berryville Christmas Parade will take place after the festivities at 6 PM and you can still register to participate. Forms can be picked up at the Berryville Community Center\n\n\n\nMore info on Facebook: https://www.facebook.com/share/1GT2RBxJUp/
X-ALT-DESC;FMTTYPE=text/html:<div class="xdj266r x11i5rnm xat24cr x1mh8g0r x1vvkbs x126k92a" style="margin: 0px\; overflow-wrap: break-word\; white-space-collapse: preserve\; font-family: &quot\;Segoe UI Historic&quot\;\, &quot\;Segoe UI&quot\;\, Helvetica\, Arial\, sans-serif\; color: rgb(8\, 8\, 9)\; font-size: 15px\;">\n<div dir="auto" style="font-family: inherit\;">3rd Annual Christmas on the Square and Berryville Tree Lighting Ceremony\, happening before the Berryville Parade on December 7th! Festivities kick off at 3 PM in the public square.</div>\n</div>\n\n<div class="x11i5rnm xat24cr x1mh8g0r x1vvkbs xtlvy1s x126k92a" style="margin: 0.5em 0px 0px\; overflow-wrap: break-word\; white-space-collapse: preserve\; font-family: &quot\;Segoe UI Historic&quot\;\, &quot\;Segoe UI&quot\;\, Helvetica\, Arial\, sans-serif\; color: rgb(8\, 8\, 9)\; font-size: 15px\;">\n<div dir="auto" style="font-family: inherit\;">We&rsquo\;ll have activities for all ages and can&rsquo\;t wait to celebrate Christmas with the whole community! Enjoy storytime\, crafts\, giveaways\, appearances by the Grinch and Santa\, and much more!</div>\n</div>\n\n<div class="x11i5rnm xat24cr x1mh8g0r x1vvkbs xtlvy1s x126k92a" style="margin: 0.5em 0px 0px\; overflow-wrap: break-word\; white-space-collapse: preserve\; font-family: &quot\;Segoe UI Historic&quot\;\, &quot\;Segoe UI&quot\;\, Helvetica\, Arial\, sans-serif\; color: rgb(8\, 8\, 9)\; font-size: 15px\;">\n<div dir="auto" style="font-family: inherit\;">The Berryville Christmas Parade will take place after the festivities at 6 PM and you can still register to participate. Forms can be picked up at the <span class="html-span xdj266r x11i5rnm xat24cr x1mh8g0r xexx8yu x4uap5 x18d9i69 xkhd6sd x1hl2dhg x16tdsg8 x1vvkbs" style="margin: 0px\; text-align: inherit\; overflow-wrap: break-word\; padding: 0px\; font-family: inherit\;"><a attributionsrc="/privacy_sandbox/comet/register/source/?xt=AZWBZY0ZcX_m_JwaR9qlzv_gZxrUPSyVa46jDjxBd40RgK1mPfV-fih8B1vQa5lSgA7FAv12aHz8jDSfF0RNRlY9Z5z25h5n8AxW_pxkbOqfrVFb_NuJUp9CPQTwQeh8KFikCeFk1NMZAlrtoZ9j1dCBoTsIylJ1XJnNW4gx696Py-1f76z36Fhcfmu7gEdB6JBbcfN3Njhvcjgi7nSn0GYdYgHLjWxmZopoG5AckpgrU7gqY2qfXUIyOB473bAmqccRvd7jCML7oFX6tz0fGbede9uGaMnXQ_f66j6FUQRRuYj6wmGBVzqgeUsBFy4b5tlKWFkLroHc8gk5sLqmNznxL3jJEgK0j45opwxJ4QmrCibcYA2v5Eq63ab0Ox4SNHSqg1GsGmi8UIaDizRtOG2vXHJm0vSV1ufKRwcHlKV88VCfpGi9ntHon33LnjSqEYm55845Oduz30amygrHGGotjLCvCL6qKBPAOTvxE7USSfBD0Q2GP57GTGJpr0OIrcNJBlA_I2m1zVivUoR6XFyeiujdMRROzjWJazeFoN-tPi9NqqlM7oNrwQybs6zRa2cRyfhUtmcIRGAg3BXZhFSC0HqggQYkjgdv4QTn-CPRjSj0Jj74hQ2-cab_bRi1tR3it6uKqIYY9lRsK96DV6NhoQDK7sD4o3gtum4bCScM7TD1VbC4QbSdZ5cOCEVi-rjiWZjIihhQ_wvW4Dcsvbdiq0RzUKyMLAgg8vwUC1a2X6vCOvYpd5dRjd89H3nNIxJJo1FQi1mzYlfWTIQUVkybH_MOt_O0KjXVO1qb61m4XLOtMZGpHrV6c60ZJKBey7gQsKksp65_xk7gZCPAOqLSHTECvSEgSWNwL5YI33kcx_oL5Vh2CH9uSYwmybuSyW5YJQt6Pvk-h5Ibkx6AJ3ApzMawBwf3oUDcco_5qd313eXTxCJV2GTM2pxM7ATEDFE1y-R--xQytxthJ2kB7c5posF73M1_ctMgz7Sz2QeY0YmJ2e0L-ZNQvitsaUVLaJMQYmxRKhfbh3pTRE3MPfzLbjFq3vvNPTXFDd9BNeTgjzPInasvjGzoC2i3lO9iJDtJOvK2dkXwZ94Kv11Sn465eFM22ge7mCiAAtanKLjCCktTcDZpP2dIll5xjYjjfQ4CNpTSP-sAqe_zJp2F9xacSkOWCBC6dgNP8cpo9gZgjF5qoT25VftAvfGNuUmglPEkUQgc-faGG1JMBgjpUeeor59DTTzeyf51ocjrIDL2uvLo0uEtF4BcGjkc-U90b5e_i7C2ZhgL672O8eN0vdIjV7sMR-TSoIpHT8SQfFQVRRwUlgILyggvavMvlzg0yL9McRScbDTup4oJWetYDZm23VoTAkEBxpDNVdzkI1CHW6jMXiyFGpJywsKBWFFzmdWGoUrEr_9wfU7vznrrssM-" class="x1i10hfl xjbqb8w x1ejq31n xd10rxx x1sy0etr x17r0tee x972fbf xcfux6l x1qhh985 xm0m39n x9f619 x1ypdohk xt0psk2 xe8uvvx xdj266r x11i5rnm xat24cr x1mh8g0r xexx8yu x4uap5 x18d9i69 xkhd6sd x16tdsg8 x1hl2dhg xggy1nq x1a2a7pz x1sur9pj xkrqix3 x1fey0fg x1s688f" href="https://www.facebook.com/berryville.center?__cft__[0]=AZUWCxURH7xscuhjaEqVoAx3zDKxVbVdLWBzQYz9EAzwNoD2DVFzMYJpp1sr7lDoXf0yPIpmVY7lxxIvE6L-m5k533XwVi9V2-sGsjnDqpJAj0tqF5v1ovUJ4S68uWhTsvvTQ4hhLEG__y9vloQDZmkGGGcls99Y9PQf1Up0lp78FA&amp\;__tn__=-]K-R" role="link" style="color: var(--blue-link)\; cursor: pointer\; text-decoration-line: none\; list-style: none\; margin: 0px\; text-align: inherit\; border-style: none\; padding: 0px\; box-sizing: border-box\; border-width: 0px\; outline: none\; -webkit-tap-highlight-color: transparent\; font-weight: 600\; touch-action: manipulation\; background-color: transparent\; display: inline\; font-family: inherit\;" tabindex="0"><span class="xt0psk2" style="display: inline\; font-family: inherit\;">Berryville Community Center</span></a><br />\n<br />\nMore info on Facebook: </span><span style="font-size: 13px\;">https://www.facebook.com/share/1GT2RBxJUp/</span></div>\n</div>\n
LOCATION:Public Square\, Berryville\, AR 72616
UID:e.2943.351
SEQUENCE:3
DTSTAMP:20260420T192002Z
URL:https://www.berryvillechamber.com/events/details/christmas-on-the-square-and-tree-lighting-ceremony-351
END:VEVENT

END:VCALENDAR
