BEGIN:VCALENDAR
VERSION:2.0
PRODID:-//ChamberMaster//Event Calendar 2.0//EN
METHOD:PUBLISH
X-PUBLISHED-TTL:P3D
REFRESH-INTERVAL:P3D
CALSCALE:GREGORIAN
BEGIN:VEVENT
DTSTART:20241205T230000Z
DTEND:20241206T020000Z
X-MICROSOFT-CDO-ALLDAYEVENT:FALSE
SUMMARY:Christmas Cookie Crawl!
DESCRIPTION:Join us for our 2nd Annual Christmas Cookie Crawl! Our vendors will be here to share their favorite holiday treats & sweet deals! This event benefits two local charities. We'll provide the goodie boxes\, hot cocoa\, cider & tons of Christmas cheer! While you\, your family\, friends & neighbors stroll through our amazing market\, we'll have live Christmas music to put you in the spirit of the season. Mr. & Mrs. Claus will be milling about. Sean's Fishy Business is now open & is hosting a coloring contest for the littles\, so\, come on out & get your coloring sheets now! We will also be introducing Biz-Z-Bee Studios! Plus\, we have invited The Painted Poppy & Hidden Treasures to a Christmas Colab! Get your 'passports' stamped on the 5th at Biz-Z-Bee\, then on the 6th attend The Painted Poppy's event\, they'll stamp your passport. Finally\, on the 7th swing by Hidden Treasures to complete your passport. Participants must collect stamps from all three event to have a chance to win the GRAND PRIZE! It's the most WONDERFUL time of the year & we can't wait to see you there!
X-ALT-DESC;FMTTYPE=text/html:Join us for our 2nd Annual Christmas Cookie Crawl! Our vendors will be here to share their favorite holiday treats &amp\; sweet deals! This event benefits two local charities. We&#39\;ll provide the goodie boxes\, hot cocoa\, cider &amp\; tons of Christmas cheer! While you\, your family\, friends &amp\; neighbors stroll through our amazing market\, we&#39\;ll have live Christmas music to put you in the spirit of the season. Mr. &amp\; Mrs. Claus will be milling about. Sean&#39\;s Fishy Business is now open &amp\; is hosting a coloring contest for the littles\, so\, come on out &amp\; get your coloring sheets now! We will also be introducing Biz-Z-Bee Studios! Plus\, we have invited The Painted Poppy &amp\; Hidden Treasures to a Christmas Colab! Get your &#39\;passports&#39\; stamped on the 5th at Biz-Z-Bee\, then on the 6th attend The Painted Poppy&#39\;s event\, they&#39\;ll stamp your passport. Finally\, on the 7th swing by Hidden Treasures to complete your passport. Participants must collect stamps from all three event to have a chance to win the GRAND PRIZE! It&#39\;s the most WONDERFUL time of the year &amp\; we can&#39\;t wait to see you there!&nbsp\;&nbsp\;
LOCATION:Biz-Z-Bee Super Flea! 366 Hwy 21 N Berryville\, AR. 870-929-6600
UID:e.2943.354
SEQUENCE:3
DTSTAMP:20260420T203423Z
URL:https://www.berryvillechamber.com/events/details/christmas-cookie-crawl-354
END:VEVENT

END:VCALENDAR
