BEGIN:VCALENDAR
VERSION:2.0
PRODID:-//ChamberMaster//Event Calendar 2.0//EN
METHOD:PUBLISH
X-PUBLISHED-TTL:P3D
REFRESH-INTERVAL:P3D
CALSCALE:GREGORIAN
BEGIN:VEVENT
DTSTART:20241025T220000Z
DTEND:20241026T000000Z
X-MICROSOFT-CDO-ALLDAYEVENT:FALSE
SUMMARY:Chili Dog Dinner
DESCRIPTION:Join us this Friday for a Chili Dog Dinner during the car show! We'll be serving from 5-7 PM in the community building on the Public Square.\n\nFor just $7\, you get a chili dog\, chips\, and a drink!
X-ALT-DESC;FMTTYPE=text/html:<span style="color: rgb(5\, 5\, 5)\; font-family: &quot\;Segoe UI Historic&quot\;\, &quot\;Segoe UI&quot\;\, Helvetica\, Arial\, sans-serif\; font-size: 15px\;">Join us this Friday for a Chili Dog Dinner during the car show! We&#39\;ll be serving from 5-7 PM in the community building on the Public Square.</span><br class="html-br" style="color: rgb(5\, 5\, 5)\; font-family: &quot\;Segoe UI Historic&quot\;\, &quot\;Segoe UI&quot\;\, Helvetica\, Arial\, sans-serif\; font-size: 15px\;" />\n<span style="color: rgb(5\, 5\, 5)\; font-family: &quot\;Segoe UI Historic&quot\;\, &quot\;Segoe UI&quot\;\, Helvetica\, Arial\, sans-serif\; font-size: 15px\;">For just $7\, you get a chili dog\, chips\, and a drink!</span>
LOCATION:Community Building 403 Public Square Berryville\, AR 72616
UID:e.2943.349
SEQUENCE:3
DTSTAMP:20260420T222720Z
URL:https://www.berryvillechamber.com/events/details/chili-dog-dinner-349
END:VEVENT

END:VCALENDAR
