BEGIN:VCALENDAR
VERSION:2.0
PRODID:-//ChamberMaster//Event Calendar 2.0//EN
METHOD:PUBLISH
X-PUBLISHED-TTL:P3D
REFRESH-INTERVAL:P3D
CALSCALE:GREGORIAN
BEGIN:VEVENT
DTSTART:20241207T231500Z
DTEND:20241208T000000Z
X-MICROSOFT-CDO-ALLDAYEVENT:FALSE
SUMMARY:Chester Insurance Group invites you for Coffee & Hot Cocoa
DESCRIPTION:Chester Insurance Group will be serving up coffee and hot cocoa before the Berryville Christmas Parade.  You can stop by the office between 5:15 pm - 6:00 pm to get your warm drink and enjoy the Parade.
X-ALT-DESC;FMTTYPE=text/html:Chester Insurance Group will be serving up coffee and hot cocoa before the Berryville Christmas Parade.&nbsp\; You can stop by the office between 5:15 pm - 6:00 pm to get your warm drink and enjoy the Parade.&nbsp\;
LOCATION:
UID:e.2943.355
SEQUENCE:3
DTSTAMP:20260420T205110Z
URL:https://www.berryvillechamber.com/events/details/chester-insurance-group-invites-you-for-coffee-hot-cocoa-355
END:VEVENT

END:VCALENDAR
