BEGIN:VCALENDAR
VERSION:2.0
PRODID:-//ChamberMaster//Event Calendar 2.0//EN
METHOD:PUBLISH
X-PUBLISHED-TTL:P3D
REFRESH-INTERVAL:P3D
CALSCALE:GREGORIAN
BEGIN:VEVENT
DTSTART:20260219T220000Z
DTEND:20260220T010000Z
X-MICROSOFT-CDO-ALLDAYEVENT:FALSE
SUMMARY:Chamber Open House & Networking: MEET THE CANDIDATES
DESCRIPTION:Chamber Open House & Networking Event: Meet the Candidates\n\nThe Berryville Chamber of Commerce invites the community to a special Chamber Open House & Networking Event themed Meet the Candidates\, held ahead of the upcoming March primary elections for this year's general election.\n\nThis free\, public event offers an informal and welcoming opportunity for residents\, business owners\, and community members to meet declared candidates\, ask questions\, learn more about the individuals seeking to serve our county OR JUST TO NETWORK AND FELLOWSHIP! The Chamber is proud to provide a neutral space that encourages civic engagement\, open dialogue\, and informed participation in the local election process.\n\nGuests are welcome to come and go throughout the evening\, connect with fellow community members\, and learn more about the Chamber's mission\, programs\, and upcoming initiatives while engaging with candidates in a respectful\, nonpartisan environment.\n\nEvent Details:\n\n  Thursday\, February 19\, 2026\n\n  4:00 PM   7:00 PM\n\n  Berryville Community Center Auditorium\n\n   Free & open to the public\n\nREFRESHMENTS PROVIDED!\n\nWhether you are a voter wanting to be informed\, a business owner interested in local leadership\, or a resident eager to stay engaged in the future of our community\, this event is designed to bring Berryville together.\n\nHosted by the Berryville Chamber of Commerce\n\n\n\nSPONSORED BY:\n\nTONYA WILLIAMS SHELTER INSURANCE\n\nSOUTHERN PARAMEDIC SERVICES\n\nKINETIC \n\nBooth Spaces available for $100 charge for candidate participants. This event serves as a fundraiser\, with proceeds benefiting the Berryville Chamber of Commerce and its mission to support local businesses and community initiatives.\n\n\n\nRegister online at berryvillechamber.com/events or email info@berryvillechamber.com.
X-ALT-DESC;FMTTYPE=text/html:<p data-end="207" data-start="145"><strong data-end="207" data-start="145">Chamber Open House &amp\; Networking Event: Meet the Candidates</strong></p>\n\n<p data-end="427" data-start="209">The Berryville Chamber of Commerce invites the community to a special <strong data-end="320" data-start="279">Chamber Open House &amp\; Networking Event</strong> themed <strong data-end="351" data-start="328">Meet the Candidates</strong>\, held ahead of the upcoming March primary elections for this year&#39\;s&nbsp\;general election.</p>\n\n<p data-end="816" data-start="429">This free\, public event offers an informal and welcoming opportunity for residents\, business owners\, and community members to meet declared candidates\, ask questions\, learn more about the individuals seeking to serve our county <strong>OR JUST TO NETWORK AND FELLOWSHIP!&nbsp\;</strong>The Chamber is proud to provide a neutral space that encourages civic engagement\, open dialogue\, and informed participation in the local election process.</p>\n\n<p data-end="1066" data-start="818">Guests are welcome to come and go throughout the evening\, connect with fellow community members\, and learn more about the Chamber&rsquo\;s mission\, programs\, and upcoming initiatives while engaging with candidates in a respectful\, nonpartisan environment.</p>\n\n<p data-end="1226" data-start="1068"><strong data-end="1086" data-start="1068">Event Details:</strong><br data-end="1089" data-start="1086" />\n&#128197\; <strong data-end="1117" data-start="1092">Thursday\, February 19\, 2026</strong><br data-end="1120" data-start="1117" />\n&#9200\; <strong data-end="1143" data-start="1122">4:00 PM &ndash\; 7:00 PM</strong><br data-end="1146" data-start="1143" />\n&#128205\; <strong data-end="1190" data-start="1149">Berryville Community Center Auditorium</strong><br data-end="1193" data-start="1190" />\n&#127903\;&#65039\; <strong data-end="1226" data-is-only-node="" data-start="1197">Free &amp\; open to the public<br />\nREFRESHMENTS PROVIDED!</strong></p>\n\n<p data-end="1445" data-start="1228">Whether you are a voter wanting to be informed\, a business owner interested in local leadership\, or a resident eager to stay engaged in the future of our community\, this event is designed to bring Berryville together.</p>\n\n<p data-end="1503" data-is-last-node="" data-is-only-node="" data-start="1447">Hosted by the <strong data-end="1502" data-start="1461">Berryville Chamber of Commerce<br />\n<br />\nSPONSORED BY:<br />\nTONYA WILLIAMS SHELTER INSURANCE<br />\nSOUTHERN PARAMEDIC SERVICES<br />\nKINETIC&nbsp\;</strong></p>\n\n<p data-end="1503" data-is-last-node="" data-is-only-node="" data-start="1447"><strong data-end="1502" data-start="1461">Booth Spaces available for $100 charge for candidate participants. </strong>This event serves as a fundraiser\, with proceeds benefiting the Berryville Chamber of Commerce and its mission to support local businesses and community initiatives.<br />\n<br />\n<strong data-end="1502" data-start="1461">Register online at berryvillechamber.com/events or email info@berryvillechamber.com.</strong></p>\n
LOCATION:Berryville Community Center Banquet Auditorium 601 Dr Spurlin Cir\, Berryville\, AR 72616
UID:e.2943.952
SEQUENCE:3
DTSTAMP:20260419T185645Z
URL:https://www.berryvillechamber.com/events/details/chamber-open-house-networking-meet-the-candidates-952
END:VEVENT

END:VCALENDAR
