BEGIN:VCALENDAR
VERSION:2.0
PRODID:-//ChamberMaster//Event Calendar 2.0//EN
METHOD:PUBLISH
X-PUBLISHED-TTL:P3D
REFRESH-INTERVAL:P3D
CALSCALE:GREGORIAN
BEGIN:VEVENT
DTSTART:20250911T213000Z
DTEND:20250911T233000Z
X-MICROSOFT-CDO-ALLDAYEVENT:FALSE
SUMMARY:Chamber After Hours Networking - Little Portion Monastery
DESCRIPTION:Join us at Little Portion in Berryville for an After-Hours Networking Event\n\nJoin us for a special Chamber After Hours on Thursday\, September 11\, 2025\, from 4:30 6:30 PM at Little Portion Hermitage and Monastery.\n\nEnjoy an early autumn evening hosted by the Brothers and Sisters of Charity. Take a peaceful stroll through the prayer gardens\, explore the Charity Chapel featuring original icons from Ukraine\, and connect with fellow Chamber members in this beautiful and serene setting.\n\nLight refreshments and finger foods will be served. Don't miss this opportunity to relax\, network\, and build relationships with your Chamber community.\n\nLittle Portion is located a few miles out of Berryville\, but it is well worth the visit! Little Portion Hermitage and Monastery\, 350 Co Rd 248\, Berryville\, AR 72616
X-ALT-DESC;FMTTYPE=text/html:<div class="xdj266r x14z9mp xat24cr x1lziwak x1vvkbs" style="margin: 0px\; overflow-wrap: break-word\; font-family: &quot\;Segoe UI Historic&quot\;\, &quot\;Segoe UI&quot\;\, Helvetica\, Arial\, sans-serif\; color: rgb(8\, 8\, 9)\; font-size: 15px\;">Join us at Little Portion in Berryville for an After-Hours Networking Event</div>\n\n<div class="x14z9mp xat24cr x1lziwak x1vvkbs xtlvy1s" style="margin: 0.5em 0px 0px\; overflow-wrap: break-word\; font-family: &quot\;Segoe UI Historic&quot\;\, &quot\;Segoe UI&quot\;\, Helvetica\, Arial\, sans-serif\; color: rgb(8\, 8\, 9)\; font-size: 15px\;">Join us for a special Chamber After Hours on Thursday\, September 11\, 2025\, from 4:30&ndash\;6:30 PM at Little Portion Hermitage and Monastery.</div>\n\n<div class="x14z9mp xat24cr x1lziwak x1vvkbs xtlvy1s" style="margin: 0.5em 0px 0px\; overflow-wrap: break-word\; font-family: &quot\;Segoe UI Historic&quot\;\, &quot\;Segoe UI&quot\;\, Helvetica\, Arial\, sans-serif\; color: rgb(8\, 8\, 9)\; font-size: 15px\;">Enjoy an early autumn evening hosted by the Brothers and Sisters of Charity. Take a peaceful stroll through the prayer gardens\, explore the Charity Chapel featuring original icons from Ukraine\, and connect with fellow Chamber members in this beautiful and serene setting.</div>\n\n<div class="x14z9mp xat24cr x1lziwak x1vvkbs xtlvy1s" style="margin: 0.5em 0px 0px\; overflow-wrap: break-word\; font-family: &quot\;Segoe UI Historic&quot\;\, &quot\;Segoe UI&quot\;\, Helvetica\, Arial\, sans-serif\; color: rgb(8\, 8\, 9)\; font-size: 15px\;">Light refreshments and finger foods will be served. Don&rsquo\;t miss this opportunity to relax\, network\, and build relationships with your Chamber community.</div>\n\n<div class="x14z9mp xat24cr x1lziwak x1vvkbs xtlvy1s" style="margin: 0.5em 0px 0px\; overflow-wrap: break-word\; font-family: &quot\;Segoe UI Historic&quot\;\, &quot\;Segoe UI&quot\;\, Helvetica\, Arial\, sans-serif\; color: rgb(8\, 8\, 9)\; font-size: 15px\;">Little Portion is located a few miles out of Berryville\, but it is well worth the visit! Little Portion Hermitage and Monastery\, 350 Co Rd 248\, Berryville\, AR 72616</div>\n
LOCATION:Little Portion Hermitage and Monastery\, 350 Co Rd 248\, Berryville\, AR 72616
UID:e.2943.936
SEQUENCE:3
DTSTAMP:20260420T021937Z
URL:https://www.berryvillechamber.com/events/details/chamber-after-hours-networking-little-portion-monastery-936
END:VEVENT

END:VCALENDAR
