BEGIN:VCALENDAR
VERSION:2.0
PRODID:-//ChamberMaster//Event Calendar 2.0//EN
METHOD:PUBLISH
X-PUBLISHED-TTL:P3D
REFRESH-INTERVAL:P3D
CALSCALE:GREGORIAN
BEGIN:VEVENT
DTSTART:20250308T200000Z
DTEND:20250308T230000Z
X-MICROSOFT-CDO-ALLDAYEVENT:FALSE
SUMMARY:Berryville's Second Saturday
DESCRIPTION:Join us for Second Saturday Fest on the Square!\n\nStarting March 8\, 2025\, at 2 PM\, we're bringing the community together every Second Saturday through November (with June featuring the Ice Cream Social and December celebrating Christmas on the Square).\n\nEnjoy a fun-filled afternoon with local vendors\, live music\, games\, and sidewalk sales from downtown shops. Community organizations are welcome to set up booths for free to share information or host activities. If interested please contact Julia Borkowski for more information JBorkowski@CarrollCoNews.com\n\nMark your calendars and come be part of the fun!
X-ALT-DESC;FMTTYPE=text/html:<div class="xdj266r x11i5rnm xat24cr x1mh8g0r x1vvkbs" style="margin: 0px\; overflow-wrap: break-word\; font-family: &quot\;Segoe UI Historic&quot\;\, &quot\;Segoe UI&quot\;\, Helvetica\, Arial\, sans-serif\; color: rgb(8\, 8\, 9)\; font-size: 15px\;">Join us for Second Saturday Fest on the Square!</div>\n\n<div class="x11i5rnm xat24cr x1mh8g0r x1vvkbs xtlvy1s" style="margin: 0.5em 0px 0px\; overflow-wrap: break-word\; font-family: &quot\;Segoe UI Historic&quot\;\, &quot\;Segoe UI&quot\;\, Helvetica\, Arial\, sans-serif\; color: rgb(8\, 8\, 9)\; font-size: 15px\;">Starting March 8\, 2025\, at 2 PM\, we&rsquo\;re bringing the community together every Second Saturday through November (with June featuring the Ice Cream Social and December celebrating Christmas on the Square).</div>\n\n<div class="x11i5rnm xat24cr x1mh8g0r x1vvkbs xtlvy1s" style="margin: 0.5em 0px 0px\; overflow-wrap: break-word\; font-family: &quot\;Segoe UI Historic&quot\;\, &quot\;Segoe UI&quot\;\, Helvetica\, Arial\, sans-serif\; color: rgb(8\, 8\, 9)\; font-size: 15px\;">Enjoy a fun-filled afternoon with local vendors\, live music\, games\, and sidewalk sales from downtown shops. Community organizations are welcome to set up booths for free to share information or host activities. If interested please contact Julia Borkowski for more information JBorkowski@CarrollCoNews.com</div>\n\n<div class="x11i5rnm xat24cr x1mh8g0r x1vvkbs xtlvy1s" style="margin: 0.5em 0px 0px\; overflow-wrap: break-word\; font-family: &quot\;Segoe UI Historic&quot\;\, &quot\;Segoe UI&quot\;\, Helvetica\, Arial\, sans-serif\; color: rgb(8\, 8\, 9)\; font-size: 15px\;">Mark your calendars and come be part of the fun!</div>\n
LOCATION:Berryville Public Square
UID:e.2943.776
SEQUENCE:3
DTSTAMP:20260420T150430Z
URL:https://www.berryvillechamber.com/events/details/berryville-s-second-saturday-776
END:VEVENT

END:VCALENDAR
