BEGIN:VCALENDAR
VERSION:2.0
PRODID:-//ChamberMaster//Event Calendar 2.0//EN
METHOD:PUBLISH
X-PUBLISHED-TTL:P3D
REFRESH-INTERVAL:P3D
CALSCALE:GREGORIAN
BEGIN:VEVENT
DTSTART;VALUE=DATE:20250912
DTEND;VALUE=DATE:20250914
TRANSP:TRANSPARENT
X-MICROSOFT-CDO-ALLDAYEVENT:TRUE
SUMMARY:Berryville Film Festival 2025
DESCRIPTION:Berryville Film Festival - 2025 will be held in Berryville\, AR located in NWA. Screenings\, workshops\, and other activities will take place at the Berryville Community Center Theater. Berryville Community Center has a wonderful theater that can hold 350 people. With its large stage and screen\, it is the perfect place for screenings and Q&As. All workshops will also take place in the theater.\n\n\n\nVendors and food will be available outside of the Berryville Community Center.\n\n\n\nBerryville Film Fest will have many workshops which will be included with day/weekend passes. Some workshops include On-screen fighting\, All things casting\, SFX Makeup\, and Screenwriting. More to be announced!\n\n(If you are interested in teaching a workshop please email BerryvilleFilmFest@gmail.com)\n\n\n\nThis festival will take place September 12-13\, 2024\n\nPass information will be posted closer to the date!\n\n\n\nRegular deadline for films is July 1 and late deadline is July 23\n\n\n\nMore information can be found on our website\n\nBerryvilleFilmFest.com
X-ALT-DESC;FMTTYPE=text/html:<div class="xdj266r x11i5rnm xat24cr x1mh8g0r x1vvkbs x126k92a" style="margin: 0px\; overflow-wrap: break-word\; white-space-collapse: preserve\; font-family: &quot\;Segoe UI Historic&quot\;\, &quot\;Segoe UI&quot\;\, Helvetica\, Arial\, sans-serif\; color: rgb(8\, 8\, 9)\; font-size: 15px\;">\n<div dir="auto" style="font-family: inherit\;"><span class="html-span xdj266r x11i5rnm xat24cr x1mh8g0r xexx8yu x4uap5 x18d9i69 xkhd6sd x1hl2dhg x16tdsg8 x1vvkbs" style="margin: 0px\; text-align: inherit\; overflow-wrap: break-word\; padding: 0px\; font-family: inherit\;"><a attributionsrc="/privacy_sandbox/comet/register/source/?xt=AZUM6NTT3iSssciOcxuP9guZ86KVVweKy3PZOEYotGfw9cAc-8DlyV7N1yKcLa-sSe-F_C-1c1kcIjpFjrWi8RaH_XzuaHisduR3ow-deo-Q6jr6YLLOU_MGmNWHvIVlxXqJ3NWxsnAUFcad6BIP23DpLXVkO3wVz7gV21vwUvDigflz-jbbySXyv9vQCDaSOxKcZd2VXwsonIWu2d5YxgrblrRnLTDk-GJ-IViQD_L4eOQbk7lOaou3-O1_1cfOv_DmTvsyjNRmjPmTIGcQgw2ehTJDQk5e1OX4vkGo0SNvCbf0Kfsiooe2BCHqGxVWU6sLT4VNZEfFnfm5jw4N2y3e4yzdM5VbASEi_ew-_MvVf2XiTnjxgwId-A70sV5CU-29pCbvtDOCkIdiPlM7bjvxNJqelpBIL0BdsVOzxaJKPDSkb709n509qDsOhCoFGuOa-dO-URbpIi_7EIo-Hf0UVaxD4Jhy7rmy6vp314LQhbhb3aB3qUke0rh0Xyx25rgt7V8vNeqRCMa1fRVxvjozJP2gcjxnRm_5O54Gpwdg25-eMY56A5oIG0icqq_7lBBw5Cggb1BMgaXo2ddrojplTckgt8nWszkdC6kLC2S2dwy2P05y7PY3davJtTHf8RBAi2drU_Gd2dPNmiAXseRRfep82dIBNQgIcu0hZFtMkSANROx0iT4_gbU8ipog28by_F_UfFTTJywets1LLnrz-n9kKPgAu7pXeTQkhz-1mM7PeohuZcaP1IZCNkEdCd8OfijaG-GBW6obbFqxBZRk2PqT8mZ06ybGoJurghWYMR8bEuO5KZp4aGnE4E-ex0Py-taUrLWFo_8x-veMoGYVQgA-rzjdX_-AsNousAOmS9yix-ksU7XgP2ss0_MU5IyEBzH5fRJpm7sCQNbGUidS2Pk11Tz6YEc1wjKpRTG7OJbJ02x2j0QGUFemij-QmpfgmFdkeDpcZLjUD9nL1jBfN1c11qT2ECZb99wV58ICWxSUXtW1hx3SVQKJKpc9u3R5rIMl6R2M0SWTO4NYjJtGUToQR4Lj1AqQxyBTlpgMPctjx-R30tJVJ6GiPWNPM_M3D2PzDwgDXTxsnPUaQKDez5ISIi6fCiVA1qnWo_Oy_kShhJ94bTj53B8IC6j4k2PgcAUXFNG4cdwMnBs64sh145kq2tSeku5XkTGsyPl0-FEVWxmeEuHeX98Ul49IlrxlQsvqhEuyP955og5xBw8D3wnZKxXR5NFtu37_L01YZT7MH8vx2_832156mI4hdXPgasfrDBQ0HKJjq2hOosSDZUxYRTkKKH6r8XoArvkhLHlPC7iJ6QPstwu494PAPJaKUSWHO1CKnhc4-W5g1MKpID0IIML0pX6HCLk2JTK_J_Inf53xbI1ZeJAyYybW64-BVY8ioaFRGBzNqneoazTyhZVjzqBaOuxNM9pYsOvjoSmNCgImOQw0b6sYTY92wk442XHjU0Oy9b98kmxbDrp5LhiUEtT0iHsE0ee0pzcJOJLvnDOq0niARHUC-zJShPlwVf-wpnBNdANibjj4EpnNSzK5PR3Hl_CJWGxMtKRXBYvwM5ShIsxbEro3x3SE88Ax4gzloYmjbgRN2GgDvlmcFkrdVMIBNd1dwhfUOo9o3Mwzrz5XUQ6XMXzy6z5UjeIzIKwO1OwPcVmsUPAUNLtu5XYe8XBwSSE0mHhdiZrQzBTKLzRUTL64nYx1ReunfCyX5VXUGaQnGDxS_TbEBcYBtGSFFVDFceglPWWxFnpg01QKNqWmyo9GE-AzLc4WLkhFoXHRfmpIDy6PZTLI20_HJL1IShKG3ZqrMwUsO73HaOmXEo01nqwaipH_j5qKRf4" class="x1i10hfl xjbqb8w x1ejq31n xd10rxx x1sy0etr x17r0tee x972fbf xcfux6l x1qhh985 xm0m39n x9f619 x1ypdohk xt0psk2 xe8uvvx xdj266r x11i5rnm xat24cr x1mh8g0r xexx8yu x4uap5 x18d9i69 xkhd6sd x16tdsg8 x1hl2dhg xggy1nq x1a2a7pz x1sur9pj xkrqix3 x1fey0fg x1s688f" href="https://www.facebook.com/events/906034461657997/?__cft__[0]=AZW3iPGiQJLi-6uSNvmdyBXDtNphv0XTr3OmtXfC8_caBsZzO9yd7O992UYFsKq249af1AgSyuHDNEfqT0gt6rEShWw8ZX09Qh_UmQfonkvx1BGDJjC_DqkGak9TrOigO2haGzN7JJ0Xyp7XIGRV3PankNadsDWp9NdR4i6g7g5ukmswxcgWkbpAkfgXiN3smGqOJPYg2YZesuug30qufVrB&amp\;__tn__=-UK-R" role="link" style="color: var(--blue-link)\; cursor: pointer\; list-style: none\; margin: 0px\; text-align: inherit\; border-style: none\; padding: 0px\; box-sizing: border-box\; border-width: 0px\; outline: none\; -webkit-tap-highlight-color: transparent\; font-weight: 600\; touch-action: manipulation\; background-color: transparent\; display: inline\; font-family: inherit\;" tabindex="0"><span class="xt0psk2" style="display: inline\; font-family: inherit\;">Berryville Film Festival - 2025</span></a></span> will be held in Berryville\, AR located in NWA. Screenings\, workshops\, and other activities will take place at the <span class="html-span xdj266r x11i5rnm xat24cr x1mh8g0r xexx8yu x4uap5 x18d9i69 xkhd6sd x1hl2dhg x16tdsg8 x1vvkbs" style="margin: 0px\; text-align: inherit\; overflow-wrap: break-word\; padding: 0px\; font-family: inherit\;"><a attributionsrc="/privacy_sandbox/comet/register/source/?xt=AZUM6NTT3iSssciOcxuP9guZ86KVVweKy3PZOEYotGfw9cAc-8DlyV7N1yKcLa-sSe-F_C-1c1kcIjpFjrWi8RaH_XzuaHisduR3ow-deo-Q6jr6YLLOU_MGmNWHvIVlxXqJ3NWxsnAUFcad6BIP23DpLXVkO3wVz7gV21vwUvDigflz-jbbySXyv9vQCDaSOxKcZd2VXwsonIWu2d5YxgrblrRnLTDk-GJ-IViQD_L4eOQbk7lOaou3-O1_1cfOv_DmTvsyjNRmjPmTIGcQgw2ehTJDQk5e1OX4vkGo0SNvCbf0Kfsiooe2BCHqGxVWU6sLT4VNZEfFnfm5jw4N2y3e4yzdM5VbASEi_ew-_MvVf2XiTnjxgwId-A70sV5CU-29pCbvtDOCkIdiPlM7bjvxNJqelpBIL0BdsVOzxaJKPDSkb709n509qDsOhCoFGuOa-dO-URbpIi_7EIo-Hf0UVaxD4Jhy7rmy6vp314LQhbhb3aB3qUke0rh0Xyx25rgt7V8vNeqRCMa1fRVxvjozJP2gcjxnRm_5O54Gpwdg25-eMY56A5oIG0icqq_7lBBw5Cggb1BMgaXo2ddrojplTckgt8nWszkdC6kLC2S2dwy2P05y7PY3davJtTHf8RBAi2drU_Gd2dPNmiAXseRRfep82dIBNQgIcu0hZFtMkSANROx0iT4_gbU8ipog28by_F_UfFTTJywets1LLnrz-n9kKPgAu7pXeTQkhz-1mM7PeohuZcaP1IZCNkEdCd8OfijaG-GBW6obbFqxBZRk2PqT8mZ06ybGoJurghWYMR8bEuO5KZp4aGnE4E-ex0Py-taUrLWFo_8x-veMoGYVQgA-rzjdX_-AsNousAOmS9yix-ksU7XgP2ss0_MU5IyEBzH5fRJpm7sCQNbGUidS2Pk11Tz6YEc1wjKpRTG7OJbJ02x2j0QGUFemij-QmpfgmFdkeDpcZLjUD9nL1jBfN1c11qT2ECZb99wV58ICWxSUXtW1hx3SVQKJKpc9u3R5rIMl6R2M0SWTO4NYjJtGUToQR4Lj1AqQxyBTlpgMPctjx-R30tJVJ6GiPWNPM_M3D2PzDwgDXTxsnPUaQKDez5ISIi6fCiVA1qnWo_Oy_kShhJ94bTj53B8IC6j4k2PgcAUXFNG4cdwMnBs64sh145kq2tSeku5XkTGsyPl0-FEVWxmeEuHeX98Ul49IlrxlQsvqhEuyP955og5xBw8D3wnZKxXR5NFtu37_L01YZT7MH8vx2_832156mI4hdXPgasfrDBQ0HKJjq2hOosSDZUxYRTkKKH6r8XoArvkhLHlPC7iJ6QPstwu494PAPJaKUSWHO1CKnhc4-W5g1MKpID0IIML0pX6HCLk2JTK_J_Inf53xbI1ZeJAyYybW64-BVY8ioaFRGBzNqneoazTyhZVjzqBaOuxNM9pYsOvjoSmNCgImOQw0b6sYTY92wk442XHjU0Oy9b98kmxbDrp5LhiUEtT0iHsE0ee0pzcJOJLvnDOq0niARHUC-zJShPlwVf-wpnBNdANibjj4EpnNSzK5PR3Hl_CJWGxMtKRXBYvwM5ShIsxbEro3x3SE88Ax4gzloYmjbgRN2GgDvlmcFkrdVMIBNd1dwhfUOo9o3Mwzrz5XUQ6XMXzy6z5UjeIzIKwO1OwPcVmsUPAUNLtu5XYe8XBwSSE0mHhdiZrQzBTKLzRUTL64nYx1ReunfCyX5VXUGaQnGDxS_TbEBcYBtGSFFVDFceglPWWxFnpg01QKNqWmyo9GE-AzLc4WLkhFoXHRfmpIDy6PZTLI20_HJL1IShKG3ZqrMwUsO73HaOmXEo01nqwaipH_j5qKRf4" class="x1i10hfl xjbqb8w x1ejq31n xd10rxx x1sy0etr x17r0tee x972fbf xcfux6l x1qhh985 xm0m39n x9f619 x1ypdohk xt0psk2 xe8uvvx xdj266r x11i5rnm xat24cr x1mh8g0r xexx8yu x4uap5 x18d9i69 xkhd6sd x16tdsg8 x1hl2dhg xggy1nq x1a2a7pz x1sur9pj xkrqix3 x1fey0fg x1s688f" href="https://www.facebook.com/berryville.center?__cft__[0]=AZW3iPGiQJLi-6uSNvmdyBXDtNphv0XTr3OmtXfC8_caBsZzO9yd7O992UYFsKq249af1AgSyuHDNEfqT0gt6rEShWw8ZX09Qh_UmQfonkvx1BGDJjC_DqkGak9TrOigO2haGzN7JJ0Xyp7XIGRV3PankNadsDWp9NdR4i6g7g5ukmswxcgWkbpAkfgXiN3smGqOJPYg2YZesuug30qufVrB&amp\;__tn__=-]K-R" role="link" style="color: var(--blue-link)\; cursor: pointer\; text-decoration-line: none\; list-style: none\; margin: 0px\; text-align: inherit\; border-style: none\; padding: 0px\; box-sizing: border-box\; border-width: 0px\; outline: none\; -webkit-tap-highlight-color: transparent\; font-weight: 600\; touch-action: manipulation\; background-color: transparent\; display: inline\; font-family: inherit\;" tabindex="0"><span class="xt0psk2" style="display: inline\; font-family: inherit\;">Berryville Community Center</span></a></span> Theater. Berryville Community Center has a wonderful theater that can hold 350 people. With its large stage and screen\, it is the perfect place for screenings and Q&amp\;As. All workshops will also take place in the theater.</div>\n</div>\n\n<div class="x11i5rnm xat24cr x1mh8g0r x1vvkbs xtlvy1s x126k92a" style="margin: 0.5em 0px 0px\; overflow-wrap: break-word\; white-space-collapse: preserve\; font-family: &quot\;Segoe UI Historic&quot\;\, &quot\;Segoe UI&quot\;\, Helvetica\, Arial\, sans-serif\; color: rgb(8\, 8\, 9)\; font-size: 15px\;">\n<div dir="auto" style="font-family: inherit\;">Vendors and food will be available outside of the Berryville Community Center.</div>\n</div>\n\n<div class="x11i5rnm xat24cr x1mh8g0r x1vvkbs xtlvy1s x126k92a" style="margin: 0.5em 0px 0px\; overflow-wrap: break-word\; white-space-collapse: preserve\; font-family: &quot\;Segoe UI Historic&quot\;\, &quot\;Segoe UI&quot\;\, Helvetica\, Arial\, sans-serif\; color: rgb(8\, 8\, 9)\; font-size: 15px\;">\n<div dir="auto" style="font-family: inherit\;">Berryville Film Fest will have many workshops which will be included with day/weekend passes. Some workshops include On-screen fighting\, All things casting\, SFX Makeup\, and Screenwriting. More to be announced!</div>\n\n<div dir="auto" style="font-family: inherit\;">(If you are interested in teaching a workshop please email BerryvilleFilmFest@gmail.com)</div>\n</div>\n\n<div class="x11i5rnm xat24cr x1mh8g0r x1vvkbs xtlvy1s x126k92a" style="margin: 0.5em 0px 0px\; overflow-wrap: break-word\; white-space-collapse: preserve\; font-family: &quot\;Segoe UI Historic&quot\;\, &quot\;Segoe UI&quot\;\, Helvetica\, Arial\, sans-serif\; color: rgb(8\, 8\, 9)\; font-size: 15px\;">\n<div dir="auto" style="font-family: inherit\;">This festival will take place September 12-13\, 2024</div>\n\n<div dir="auto" style="font-family: inherit\;">Pass information will be posted closer to the date!</div>\n</div>\n\n<div class="x11i5rnm xat24cr x1mh8g0r x1vvkbs xtlvy1s x126k92a" style="margin: 0.5em 0px 0px\; overflow-wrap: break-word\; white-space-collapse: preserve\; font-family: &quot\;Segoe UI Historic&quot\;\, &quot\;Segoe UI&quot\;\, Helvetica\, Arial\, sans-serif\; color: rgb(8\, 8\, 9)\; font-size: 15px\;">\n<div dir="auto" style="font-family: inherit\;">Regular deadline for films is July 1 and late deadline is July 23</div>\n</div>\n\n<div class="x11i5rnm xat24cr x1mh8g0r x1vvkbs xtlvy1s x126k92a" style="margin: 0.5em 0px 0px\; overflow-wrap: break-word\; white-space-collapse: preserve\; font-family: &quot\;Segoe UI Historic&quot\;\, &quot\;Segoe UI&quot\;\, Helvetica\, Arial\, sans-serif\; color: rgb(8\, 8\, 9)\; font-size: 15px\;">\n<div dir="auto" style="font-family: inherit\;">More information can be found on our website</div>\n\n<div dir="auto" style="font-family: inherit\;"><span class="html-span xdj266r x11i5rnm xat24cr x1mh8g0r xexx8yu x4uap5 x18d9i69 xkhd6sd x1hl2dhg x16tdsg8 x1vvkbs" style="margin: 0px\; text-align: inherit\; overflow-wrap: break-word\; padding: 0px\; font-family: inherit\;"><a attributionsrc="/privacy_sandbox/comet/register/source/?xt=AZUM6NTT3iSssciOcxuP9guZ86KVVweKy3PZOEYotGfw9cAc-8DlyV7N1yKcLa-sSe-F_C-1c1kcIjpFjrWi8RaH_XzuaHisduR3ow-deo-Q6jr6YLLOU_MGmNWHvIVlxXqJ3NWxsnAUFcad6BIP23DpLXVkO3wVz7gV21vwUvDigflz-jbbySXyv9vQCDaSOxKcZd2VXwsonIWu2d5YxgrblrRnLTDk-GJ-IViQD_L4eOQbk7lOaou3-O1_1cfOv_DmTvsyjNRmjPmTIGcQgw2ehTJDQk5e1OX4vkGo0SNvCbf0Kfsiooe2BCHqGxVWU6sLT4VNZEfFnfm5jw4N2y3e4yzdM5VbASEi_ew-_MvVf2XiTnjxgwId-A70sV5CU-29pCbvtDOCkIdiPlM7bjvxNJqelpBIL0BdsVOzxaJKPDSkb709n509qDsOhCoFGuOa-dO-URbpIi_7EIo-Hf0UVaxD4Jhy7rmy6vp314LQhbhb3aB3qUke0rh0Xyx25rgt7V8vNeqRCMa1fRVxvjozJP2gcjxnRm_5O54Gpwdg25-eMY56A5oIG0icqq_7lBBw5Cggb1BMgaXo2ddrojplTckgt8nWszkdC6kLC2S2dwy2P05y7PY3davJtTHf8RBAi2drU_Gd2dPNmiAXseRRfep82dIBNQgIcu0hZFtMkSANROx0iT4_gbU8ipog28by_F_UfFTTJywets1LLnrz-n9kKPgAu7pXeTQkhz-1mM7PeohuZcaP1IZCNkEdCd8OfijaG-GBW6obbFqxBZRk2PqT8mZ06ybGoJurghWYMR8bEuO5KZp4aGnE4E-ex0Py-taUrLWFo_8x-veMoGYVQgA-rzjdX_-AsNousAOmS9yix-ksU7XgP2ss0_MU5IyEBzH5fRJpm7sCQNbGUidS2Pk11Tz6YEc1wjKpRTG7OJbJ02x2j0QGUFemij-QmpfgmFdkeDpcZLjUD9nL1jBfN1c11qT2ECZb99wV58ICWxSUXtW1hx3SVQKJKpc9u3R5rIMl6R2M0SWTO4NYjJtGUToQR4Lj1AqQxyBTlpgMPctjx-R30tJVJ6GiPWNPM_M3D2PzDwgDXTxsnPUaQKDez5ISIi6fCiVA1qnWo_Oy_kShhJ94bTj53B8IC6j4k2PgcAUXFNG4cdwMnBs64sh145kq2tSeku5XkTGsyPl0-FEVWxmeEuHeX98Ul49IlrxlQsvqhEuyP955og5xBw8D3wnZKxXR5NFtu37_L01YZT7MH8vx2_832156mI4hdXPgasfrDBQ0HKJjq2hOosSDZUxYRTkKKH6r8XoArvkhLHlPC7iJ6QPstwu494PAPJaKUSWHO1CKnhc4-W5g1MKpID0IIML0pX6HCLk2JTK_J_Inf53xbI1ZeJAyYybW64-BVY8ioaFRGBzNqneoazTyhZVjzqBaOuxNM9pYsOvjoSmNCgImOQw0b6sYTY92wk442XHjU0Oy9b98kmxbDrp5LhiUEtT0iHsE0ee0pzcJOJLvnDOq0niARHUC-zJShPlwVf-wpnBNdANibjj4EpnNSzK5PR3Hl_CJWGxMtKRXBYvwM5ShIsxbEro3x3SE88Ax4gzloYmjbgRN2GgDvlmcFkrdVMIBNd1dwhfUOo9o3Mwzrz5XUQ6XMXzy6z5UjeIzIKwO1OwPcVmsUPAUNLtu5XYe8XBwSSE0mHhdiZrQzBTKLzRUTL64nYx1ReunfCyX5VXUGaQnGDxS_TbEBcYBtGSFFVDFceglPWWxFnpg01QKNqWmyo9GE-AzLc4WLkhFoXHRfmpIDy6PZTLI20_HJL1IShKG3ZqrMwUsO73HaOmXEo01nqwaipH_j5qKRf4" class="x1i10hfl xjbqb8w x1ejq31n xd10rxx x1sy0etr x17r0tee x972fbf xcfux6l x1qhh985 xm0m39n x9f619 x1ypdohk xt0psk2 xe8uvvx xdj266r x11i5rnm xat24cr x1mh8g0r xexx8yu x4uap5 x18d9i69 xkhd6sd x16tdsg8 x1hl2dhg xggy1nq x1a2a7pz x1sur9pj xkrqix3 x1fey0fg x1s688f" href="https://l.facebook.com/l.php?u=http%3A%2F%2FBerryvilleFilmFest.com%2F%3Ffbclid%3DIwZXh0bgNhZW0CMTAAAR0ewhSp7DUjf_N_nWFlnM580cbiDieBs6VvJIXyAD5NnAIkc5P_uDvaSBg_aem_i6KygioF8Iowt6boqKt50w&amp\;h=AT3w1xVr_pClVjAEOK2jy1lYtYdEKSxCjopvx0AUcwfpdcZjoEiED6wuIi3J8HUUvsQ7C6RkeDXJyC-S70LFTT69p0ZAk2pG9ZxXQ9e7IAA0i78u_9X5RhD3m8Ji-H-VOeht&amp\;__tn__=-UK-R&amp\;c[0]=AT2p-PgZpqkIgsl_ghzeFz-xURUSHyRWD_q-iGEVedkQTao1thuaEx9pb_nYeny-xhDvg9jpWA-v5_G1jDgFA_x2WOAksyFNlfnkIj06PTPZBxzEfEH0n6k40LRdAMJrwLRnR4c224MioCXQ0SeZGwz2jqEzzO9zcWYoeZsuo3zl2uzmn1xEmdIdEqOy43XGHLYSksYCUR6-Rrmo-QlwXNbC3S5k7W0" rel="nofollow noreferrer" role="link" style="color: var(--blue-link)\; cursor: pointer\; text-decoration-line: none\; list-style: none\; margin: 0px\; text-align: inherit\; border-style: none\; padding: 0px\; box-sizing: border-box\; border-width: 0px\; outline: none\; -webkit-tap-highlight-color: transparent\; font-weight: 600\; touch-action: manipulation\; background-color: transparent\; display: inline\; font-family: inherit\;" tabindex="0" target="_blank">BerryvilleFilmFest.com</a></span></div>\n</div>\n
LOCATION:Berryville Community Center
UID:e.2943.359
SEQUENCE:3
DTSTAMP:20260420T022938Z
URL:https://www.berryvillechamber.com/events/details/berryville-film-festival-2025-359
END:VEVENT

END:VCALENDAR
