BEGIN:VCALENDAR
VERSION:2.0
PRODID:-//ChamberMaster//Event Calendar 2.0//EN
METHOD:PUBLISH
X-PUBLISHED-TTL:P3D
REFRESH-INTERVAL:P3D
CALSCALE:GREGORIAN
BEGIN:VEVENT
DTSTART:20250306T233000Z
DTEND:20250307T010000Z
X-MICROSOFT-CDO-ALLDAYEVENT:FALSE
SUMMARY:Berryville Chamber Networking & Open House
DESCRIPTION:The Berryville Chamber of Commerce invites you to a special Open House Networking Event\, a great opportunity to connect with local businesses\, meet your Chamber team\, and expand your network. Sponsored by Single Parent Scholarship Fund of NWA!
X-ALT-DESC;FMTTYPE=text/html:<span style="color: rgb(8\, 8\, 9)\; font-family: &quot\;Segoe UI Historic&quot\;\, &quot\;Segoe UI&quot\;\, Helvetica\, Arial\, sans-serif\; font-size: 15px\;">The Berryville Chamber of Commerce invites you to a special Open House Networking Event\, a great opportunity to connect with local businesses\, meet your Chamber team\, and expand your network.&nbsp\;</span>Sponsored by Single Parent Scholarship Fund of NWA!&nbsp\;
LOCATION:Carroll Electric Community Room 920 US-62 Spur\, Berryville\, AR 72616
UID:e.2943.772
SEQUENCE:3
DTSTAMP:20260420T150757Z
URL:https://www.berryvillechamber.com/events/details/berryville-chamber-networking-open-house-772
END:VEVENT

END:VCALENDAR
