BEGIN:VCALENDAR
VERSION:2.0
PRODID:-//ChamberMaster//Event Calendar 2.0//EN
METHOD:PUBLISH
X-PUBLISHED-TTL:P3D
REFRESH-INTERVAL:P3D
CALSCALE:GREGORIAN
BEGIN:VEVENT
DTSTART:20241031T230000Z
DTEND:20241101T010000Z
X-MICROSOFT-CDO-ALLDAYEVENT:FALSE
SUMMARY:Berryville Candy Crawl
DESCRIPTION:1st annual Berryville Candy Crawl! Stop at all the locations and get your passport stamped to win a prize. \n\n \nKTHS Truck or Treat - Harter House parking lot\n\nPublic Square  (Farmers Market\, Hardcastle Folk Art\, Trusted Advisors Insurance Agency\, Hometown Coffee & Cafe\, Berryville Chamber of Commerce\, C4 Cornhole\, and more!)\n\nThe Borkowski's - 413 S Springfield St (goodies for all ages\, family movie!)
X-ALT-DESC;FMTTYPE=text/html:1st annual Berryville Candy Crawl! Stop at all the locations and get your passport stamped to win a prize.&nbsp\;<br />\n&nbsp\;\n<p class="cvGsUA direction-ltr align-center para-style-body" style="color: rgb(55\, 53\, 23)\; font-family: &quot\;YAFO9PKnZ5M 0&quot\;\, _fb_\, auto\; --cyV3ZQ: 46.6667px\; --gJPlXQ: 0.9\; line-height: 42px\;"><span class="OYPEnA font-feature-liga-off font-feature-clig-off font-feature-calt-off text-decoration-none text-strikethrough-none" style="font-kerning: none\;">KTHS Truck or Treat - Harter House parking lot</span></p>\n\n<p class="cvGsUA direction-ltr align-center para-style-body" style="color: rgb(55\, 53\, 23)\; font-family: &quot\;YAFO9PKnZ5M 0&quot\;\, _fb_\, auto\; --cyV3ZQ: 46.6667px\; --gJPlXQ: 0.9\; line-height: 42px\;"><span class="OYPEnA font-feature-liga-off font-feature-clig-off font-feature-calt-off text-decoration-none text-strikethrough-none" style="font-kerning: none\;">Public Square<span class="OYPEnA font-feature-liga-off font-feature-clig-off font-feature-calt-off text-decoration-none text-strikethrough-none white-space-prewrap" style="font-kerning: none\;"> </span>&nbsp\;(Farmers Market\, Hardcastle Folk Art\, Trusted Advisors Insurance Agency\, Hometown Coffee &amp\; Cafe\, Berryville Chamber of Commerce\, C4 Cornhole\, and more!)<br />\nThe Borkowski&rsquo\;s - 413 S Springfield St (goodies for all ages\, family movie!)</span></p>\n
LOCATION:Harter House Parking Lot Public Square The Borkowski's 413 S. Springfield St. Berryville
UID:e.2943.347
SEQUENCE:3
DTSTAMP:20260420T222834Z
URL:https://www.berryvillechamber.com/events/details/berryville-candy-crawl-347
END:VEVENT

END:VCALENDAR
