BEGIN:VCALENDAR
VERSION:2.0
PRODID:-//ChamberMaster//Event Calendar 2.0//EN
METHOD:PUBLISH
X-PUBLISHED-TTL:P3D
REFRESH-INTERVAL:P3D
CALSCALE:GREGORIAN
BEGIN:VEVENT
DTSTART;VALUE=DATE:20240908
DTEND;VALUE=DATE:20240909
TRANSP:TRANSPARENT
X-MICROSOFT-CDO-ALLDAYEVENT:TRUE
SUMMARY:BBQ Rib Cook-off Sanctioned
DESCRIPTION:Ribs and Rides Patriot Day Celebration Sanctioned BBQ Rib Cook-off sponsored by Rib Cook-Off Association and Holiday Island Chamber of Commerce.  Ten Cash Prize levels with the top prize $1\,000 and a place in the Finals.  \n\nincludes Kids Q (under age 13) with 3 levels of Trophies! \n\nRegistration now: www.ribcookoffassociation.com\n\n\n\nIn connection with Ribs & Rides Patriot Day Car Show  just around the corner at 13 Buckskin Lane\, Holiday Island\, AR.  Register at Show.\n\n\n\nVendors Booth - register with Tracci - 479-222-7142 - $40\n\nLive Music\, Kiddies Korral\,  Face Painting\, American Legion Presentation of  Colors 3 pm\n\n\n\nhttps://www.facebook.com/HolidayIslandChamber/
X-ALT-DESC;FMTTYPE=text/html:<span style="color:#333333"><span style="font-family:arial\,sans-serif"><span style="font-size:10.0pt">Ribs and Rides Patriot Day Celebration Sanctioned BBQ Rib Cook-off sponsored by Rib Cook-Off Association and Holiday Island Chamber of Commerce.&nbsp\; Ten Cash Prize levels with the top prize $1\,000 and a place in the Finals.&nbsp\;&nbsp\;</span></span></span><br />\n<span style="color:#333333"><span style="font-family:arial\,sans-serif"><span style="font-size:10.0pt">includes Kids Q (under age 13) with 3 levels of Trophies!&nbsp\;<br />\nRegistration now: www.ribcookoffassociation.com<br />\n<br />\nIn connection with Ribs &amp\; Rides Patriot Day Car Show&nbsp\; just around the corner at 13 Buckskin Lane\, Holiday Island\, AR.&nbsp\; Register at Show.<br />\n<br />\nVendors Booth - register with Tracci - 479-222-7142 - $40<br />\nLive Music\, Kiddies Korral\,&nbsp\; Face Painting\, American Legion Presentation of&nbsp\; Colors 3 pm</span></span></span><br />\n<br />\n<a href="https://www.facebook.com/HolidayIslandChamber/"><span style="font-family:arial\,sans-serif"><span style="font-size:10.0pt">https://www.facebook.com/HolidayIslandChamber/</span></span></a>
LOCATION:The Barn\, 120 Shields Drive\, Holiday Island\, AR 72631
UID:e.2943.329
SEQUENCE:3
DTSTAMP:20260421T000030Z
URL:https://www.berryvillechamber.com/events/details/bbq-rib-cook-off-sanctioned-329
END:VEVENT

END:VCALENDAR
