BEGIN:VCALENDAR
VERSION:2.0
PRODID:-//ChamberMaster//Event Calendar 2.0//EN
METHOD:PUBLISH
X-PUBLISHED-TTL:P3D
REFRESH-INTERVAL:P3D
CALSCALE:GREGORIAN
BEGIN:VEVENT
DTSTART:20250404T130000Z
DTEND:20250404T140000Z
X-MICROSOFT-CDO-ALLDAYEVENT:FALSE
SUMMARY:April First Friday Coffee - Equity Bank
DESCRIPTION:You're Invited!  \n\nJoin the Berryville Chamber of Commerce for First Friday Coffee this April!\n\n  Start your morning with delicious coffee\, great conversations\, and amazing company.\n\n  Date: April 4\, 2025\n\n  Time: 8:00 A.M.\n\n  Location: Equity Bank\, 911 W Trimble Ave\, Berryville\, AR 72616\n\nThis event is open to everyone come network\, connect\, and enjoy a great start to your day! We can't wait to see you there.
X-ALT-DESC;FMTTYPE=text/html:<p>You&rsquo\;re Invited! &#127775\;</p>\n\n<p>Join the Berryville Chamber of Commerce for First Friday Coffee this April!</p>\n\n<p>&#9749\; Start your morning with delicious coffee\, great conversations\, and amazing company.</p>\n\n<p>&#128197\; Date: April 4\, 2025<br />\n&#9200\; Time: 8:00 A.M.<br />\n&#128205\; Location: Equity Bank\, 911 W Trimble Ave\, Berryville\, AR 72616</p>\n\n<p>This event is open to everyone&mdash\;come network\, connect\, and enjoy a great start to your day! We can&#39\;t wait to see you there. &#9749\;&#10024\;</p>\n
LOCATION:Location: Equity Bank\, 911 W Trimble Ave\, Berryville\, AR 72616
UID:e.2943.369
SEQUENCE:3
DTSTAMP:20260420T093555Z
URL:https://www.berryvillechamber.com/events/details/april-first-friday-coffee-equity-bank-369
END:VEVENT

END:VCALENDAR
