BEGIN:VCALENDAR
VERSION:2.0
PRODID:-//ChamberMaster//Event Calendar 2.0//EN
METHOD:PUBLISH
X-PUBLISHED-TTL:P3D
REFRESH-INTERVAL:P3D
CALSCALE:GREGORIAN
BEGIN:VEVENT
DTSTART:20261113T000000Z
DTEND:20261113T020000Z
X-MICROSOFT-CDO-ALLDAYEVENT:FALSE
SUMMARY:American Legion Meetings
DESCRIPTION:American Legion meetings bring veterans and community members together to discuss initiatives\, support fellow veterans\, and plan local events. These gatherings promote patriotism\, service\, and camaraderie while addressing important veteran affairs and community projects. Join us at our next meeting!
X-ALT-DESC;FMTTYPE=text/html:<p>American Legion meetings bring veterans and community members together to discuss initiatives\, support fellow veterans\, and plan local events. These gatherings promote patriotism\, service\, and camaraderie while addressing important veteran affairs and community projects. Join us at our next meeting!</p>\n
LOCATION:Berryville VFW 109 Bunch Springs Road\, 72616
UID:e.2943.661
SEQUENCE:3
DTSTAMP:20260420T062709Z
URL:https://www.berryvillechamber.com/events/details/american-legion-meetings-11-12-2026-661
END:VEVENT

END:VCALENDAR
