BEGIN:VCALENDAR
VERSION:2.0
PRODID:-//ChamberMaster//Event Calendar 2.0//EN
METHOD:PUBLISH
X-PUBLISHED-TTL:P3D
REFRESH-INTERVAL:P3D
CALSCALE:GREGORIAN
BEGIN:VEVENT
DTSTART:20250313T230000Z
DTEND:20250314T000000Z
X-MICROSOFT-CDO-ALLDAYEVENT:FALSE
SUMMARY:American Legion Auxiliary Informational Meeting
DESCRIPTION:The American Legion Auxiliary is coming to Berryville\, AR! Informational Meeting to be held on March 13th @ 6PM at the Berryville Chamber Office (506 S Main\, Berryville\, AR 72616). Eligibility includes spouse (male spouse must be married to a Veteran)\, female Veterans\, mother\, grandmother\, daughter\, granddaughter\, or sister of a Veteran. Plus\, anyone who wants to support our Nations Veterans\, Military\, and their families and has a heart to serve others and be part of the betterment of our community. For questions contact: Pearl Gordon\, President 2024-2025\, American Legion Auxiliary\, 501-374-5836\, or arkaux@att.net.
X-ALT-DESC;FMTTYPE=text/html:The American Legion Auxiliary is coming to Berryville\, AR! Informational Meeting to be held on March 13th @ 6PM at the Berryville Chamber Office (506 S Main\, Berryville\, AR 72616). Eligibility includes spouse (male spouse must be married to a Veteran)\, female Veterans\, mother\, grandmother\, daughter\, granddaughter\, or sister of a Veteran. Plus\, anyone who wants to support our Nations Veterans\, Military\, and their families and has a heart to serve others and be part of the betterment of our community. For questions contact: Pearl Gordon\, President 2024-2025\, American Legion Auxiliary\, 501-374-5836\, or arkaux@att.net.
LOCATION:
UID:e.2943.784
SEQUENCE:3
DTSTAMP:20260420T151001Z
URL:https://www.berryvillechamber.com/events/details/american-legion-auxiliary-informational-meeting-784
END:VEVENT

END:VCALENDAR
