BEGIN:VCALENDAR
VERSION:2.0
PRODID:-//ChamberMaster//Event Calendar 2.0//EN
METHOD:PUBLISH
X-PUBLISHED-TTL:P3D
REFRESH-INTERVAL:P3D
CALSCALE:GREGORIAN
BEGIN:VEVENT
DTSTART;VALUE=DATE:20260612
DTEND;VALUE=DATE:20260614
TRANSP:TRANSPARENT
X-MICROSOFT-CDO-ALLDAYEVENT:TRUE
SUMMARY:40th Annual Berryville Ice Cream Social
DESCRIPTION:Join us for the BIG 40th Annual Berryville Ice Cream Social on the historic Downtown Berryville Square! Friday\, June 12th and Saturday\, June 13th\, 2026.\n\n\n\nThis beloved summer festival\, brought to you by the Berryville Chamber of Commerce in collaboration with the City of Berryville\, is one of Northwest Arkansas' most iconic community celebrations\, drawing families\, tourists\, vendors\, and visitors from all over the Ozarks.\n\nCelebrate four decades of fun with hand-scooped ice cream\, live music\, and a bustling marketplace of arts & crafts vendors\, food trucks\, and local makers. Kids and adults alike will enjoy the game zone\, bouncy houses\, and the return of classic small-town activities.\n\nRETURNING this year: Don't miss the exciting Scoop Races\, complete with fantastic prizes for all age groups! It's a fun\, family-friendly competition that adds even more energy to an already unforgettable event.\n\nIf you're a vendor\, this is the perfect opportunity to showcase your products to a high-traffic crowd in a thriving community. Visitors can also explore Berryville's charming historic square\, local shops\, and welcoming atmosphere that make it a favorite travel stop for weekend getaways in Arkansas.\n\nCome experience why the Berryville Ice Cream Social has been a cherished Carroll County summer tradition for 40 years\, and help us kick off the season with sweet treats and small-town charm!
X-ALT-DESC;FMTTYPE=text/html:<strong>Join us for the BIG 40th Annual Berryville Ice Cream Social on the historic Downtown Berryville Square! Friday\, June 12th and Saturday\, June 13th\, 2026.</strong><br />\n<br />\nThis beloved summer festival\, <strong>brought to you by the Berryville Chamber of Commerce in collaboration with the City of Berryville\, </strong>is one of <strong>Northwest Arkansas&rsquo\; most iconic community celebrations</strong>\, drawing families\, tourists\, vendors\, and visitors from all over the <strong>Ozarks</strong>.<br />\nCelebrate four decades of fun with <strong>hand-scooped ice cream</strong>\, <strong>live music</strong>\, and a bustling marketplace of <strong>arts &amp\; crafts vendors</strong>\, <strong>food trucks</strong>\, and <strong>local makers</strong>. Kids and adults alike will enjoy the <strong>game zone</strong>\, <strong>bouncy houses</strong>\, and the return of classic small-town activities.<br />\n<strong>RETURNING this year:</strong> Don&rsquo\;t miss the exciting <strong>Scoop Races</strong>\, complete with <strong>fantastic prizes</strong> for all age groups! It&rsquo\;s a fun\, family-friendly competition that adds even more energy to an already unforgettable event.<br />\nIf you&rsquo\;re a <strong>vendor</strong>\, this is the perfect opportunity to showcase your products to a <strong>high-traffic crowd</strong> in a thriving community. Visitors can also explore Berryville&rsquo\;s charming historic square\, local shops\, and welcoming atmosphere that make it a favorite <strong>travel stop for weekend getaways in Arkansas</strong>.<br />\nCome experience why the <strong>Berryville Ice Cream Social</strong> has been a cherished <strong>Carroll County summer tradition for 40 years</strong>\, and help us kick off the season with sweet treats and small-town charm!
LOCATION:Located on the beautiful downtown Berryville\, Arkansas town square and Pioneer Park.
UID:e.2943.948
SEQUENCE:3
DTSTAMP:20260419T185659Z
URL:https://www.berryvillechamber.com/events/details/40th-annual-berryville-ice-cream-social-948
END:VEVENT

END:VCALENDAR
