BEGIN:VCALENDAR
VERSION:2.0
PRODID:-//ChamberMaster//Event Calendar 2.0//EN
METHOD:PUBLISH
X-PUBLISHED-TTL:P3D
REFRESH-INTERVAL:P3D
CALSCALE:GREGORIAN
BEGIN:VEVENT
DTSTART;VALUE=DATE:20250613
DTEND;VALUE=DATE:20250615
TRANSP:TRANSPARENT
X-MICROSOFT-CDO-ALLDAYEVENT:TRUE
SUMMARY:39th Annual Berryville Ice Cream Social
DESCRIPTION:Join us for the 39th Annual Berryville Ice Cream Social on the historic downtown square in Berryville\, AR. Family fun and live music accents this event which kicks off summer. Crafts\, food vendors\, kid games and bouncy houses!
X-ALT-DESC;FMTTYPE=text/html:<span style="font-size: 18px\;">Join us for the 39th Annual Berryville Ice Cream Social on the historic downtown square in Berryville\, AR. Family fun and live music accents this event which kicks off summer. Crafts\, food vendors\, kid games and bouncy houses!</span>
LOCATION:Located on the beautiful downtown Berryville town square.
UID:e.2943.328
SEQUENCE:3
DTSTAMP:20260420T064238Z
URL:https://www.berryvillechamber.com/events/details/39th-annual-berryville-ice-cream-social-328
END:VEVENT

END:VCALENDAR
