BEGIN:VCALENDAR
VERSION:2.0
PRODID:-//ChamberMaster//Event Calendar 2.0//EN
METHOD:PUBLISH
X-PUBLISHED-TTL:P3D
REFRESH-INTERVAL:P3D
CALSCALE:GREGORIAN
BEGIN:VEVENT
DTSTART:20250322T150000Z
DTEND:20250322T200000Z
X-MICROSOFT-CDO-ALLDAYEVENT:FALSE
SUMMARY:33rd Annual Kite Fest
DESCRIPTION:Join us at Turpentine Creek Wildlife Refuge on March 22\, 2025\, from 10 AM to 3 PM for a day of family-friendly fun and high-flying kites at our annual Kite Fest. Experience the joy of kite flying against the backdrop of our picturesque Refuge\, where rescued animals call us home. The event is free to all\, with standard admission to the refuge applying for those who wish to tour. Get ready for an exciting lineup of activities\, including raffles\, live music\, and a variety of vendors offering unique crafts and delicious treats. It's a perfect opportunity to enjoy the great outdoors!
X-ALT-DESC;FMTTYPE=text/html:Join us at Turpentine Creek Wildlife Refuge on March 22\, 2025\, from 10 AM to 3 PM for a day of family-friendly fun and high-flying kites at our annual Kite Fest. Experience the joy of kite flying against the backdrop of our picturesque Refuge\, where rescued animals call us home. The event is free to all\, with standard admission to the refuge applying for those who wish to tour. Get ready for an exciting lineup of activities\, including raffles\, live music\, and a variety of vendors offering unique crafts and delicious treats. It&#39\;s a perfect opportunity to enjoy the great outdoors!
LOCATION:Turpentine Creek Wildlife Refuge 239 Turpentine Creek Lane Eureka Springs\, AR 72632
UID:e.2943.773
SEQUENCE:3
DTSTAMP:20260420T162403Z
URL:https://www.berryvillechamber.com/events/details/33rd-annual-kite-fest-773
END:VEVENT

END:VCALENDAR
