BEGIN:VCALENDAR
VERSION:2.0
PRODID:-//ChamberMaster//Event Calendar 2.0//EN
METHOD:PUBLISH
X-PUBLISHED-TTL:P3D
REFRESH-INTERVAL:P3D
CALSCALE:GREGORIAN
BEGIN:VEVENT
DTSTART;VALUE=DATE:20250919
DTEND;VALUE=DATE:20250921
TRANSP:TRANSPARENT
X-MICROSOFT-CDO-ALLDAYEVENT:TRUE
SUMMARY:2025 Pioneer Days
DESCRIPTION:Step back in time and experience the rich history of Berryville at Pioneer Park\, located behind the Berryville Public Library\, on September 19-20\, 2025. This two-day event will be packed with exciting activities for all ages\, celebrating our heritage and community spirit.\n\nStroll through a variety of vendor and craft booths showcasing handmade goods\, unique gifts\, and local artistry. Savor delicious offerings from an array of food trucks\, and enjoy live music performances that will keep the energy high throughout the event.\n\nFamilies and children will love the pony rides\, offering a fun and memorable experience for the little ones. History enthusiasts can take a step back in time with guided tours of the Newberry Cabin\, Pension Mountain Schoolhouse\, and other historical buildings that make Pioneer Park such a special place.\n\nMark your calendar and join us for a weekend filled with history\, entertainment\, and community fun!
X-ALT-DESC;FMTTYPE=text/html:<p>Step back in time and experience the rich history of Berryville at Pioneer Park\, located behind the Berryville Public Library\, on September 19-20\, 2025. This two-day event will be packed with exciting activities for all ages\, celebrating our heritage and community spirit.</p>\n\n<p>Stroll through a variety of vendor and craft booths showcasing handmade goods\, unique gifts\, and local artistry. Savor delicious offerings from an array of food trucks\, and enjoy live music performances that will keep the energy high throughout the event.</p>\n\n<p>Families and children will love the pony rides\, offering a fun and memorable experience for the little ones. History enthusiasts can take a step back in time with guided tours of the Newberry Cabin\, Pension Mountain Schoolhouse\, and other historical buildings that make Pioneer Park such a special place.</p>\n\n<p>Mark your calendar and join us for a weekend filled with history\, entertainment\, and community fun!</p>\n
LOCATION:Pioneer Park in Berryville\, AR
UID:e.2943.639
SEQUENCE:3
DTSTAMP:20260420T022045Z
URL:https://www.berryvillechamber.com/events/details/2025-pioneer-days-639
END:VEVENT

END:VCALENDAR
