BEGIN:VCALENDAR
VERSION:2.0
PRODID:-//ChamberMaster//Event Calendar 2.0//EN
METHOD:PUBLISH
X-PUBLISHED-TTL:P3D
REFRESH-INTERVAL:P3D
CALSCALE:GREGORIAN
BEGIN:VEVENT
DTSTART:20251025T223000Z
DTEND:20251026T010000Z
X-MICROSOFT-CDO-ALLDAYEVENT:FALSE
SUMMARY:2025 Chamber of Commerce Awards Banquet
DESCRIPTION:Stars of Commerce   2025 Berryville Chamber of Commerce Awards Banquet  \n\nJoin the Berryville Chamber of Commerce for an unforgettable evening celebrating local business excellence! The night will feature special guest speaker Jason Jedamski\, founder of Ignite2Unite\, along with dinner\, networking\, and recognition of outstanding community members.\n\n  Berryville Community Center\, 601 Dr Spurlin Dr\, Berryville\, AR 72616\n\n  Saturday\, October 25\, 2025\n\n  Doors open at 5:30 PM | Program begins at 6:00 PM\n\nTickets are $40 each or $350 for a table of 8. Space is limited reserve yours today at berryvillechamber.com/events
X-ALT-DESC;FMTTYPE=text/html:<div>\n<p data-end="410" data-start="76">&#10024\; <strong data-end="129" data-start="78">Stars of Commerce &ndash\; 2025 Berryville Chamber of Commerce Awards Banquet</strong> &#10024\;<br data-end="134" data-start="131" />\nJoin the Berryville Chamber of Commerce for an unforgettable evening celebrating local business excellence! The night will feature special guest speaker Jason Jedamski\, founder of Ignite2Unite\, along with dinner\, networking\, and recognition of outstanding community members.</p>\n\n<p data-end="530" data-start="412">&#128205\; Berryville Community Center\, 601 Dr Spurlin Dr\, Berryville\, AR 72616<br data-end="445" data-start="442" />\n&#128197\; Saturday\, October 25\, 2025<br data-end="477" data-start="474" />\n&#9200\; Doors open at 5:30 PM | Program begins at 6:00 PM</p>\n\n<p data-end="680" data-start="532">Tickets are $40 each or $350 for a table of 8. Space is limited&mdash\;reserve yours today at <a class="decorated-link cursor-pointer" data-end="677" data-start="619" rel="noopener" target="_new">berryvillechamber.com/events</a></p>\n</div>\n
LOCATION:Berryville Community Center Banquet Hall 601 Dr Spurlin Dr\, Berryville\, AR 72616
UID:e.2943.937
SEQUENCE:3
DTSTAMP:20260420T022208Z
URL:https://www.berryvillechamber.com/events/details/2025-chamber-of-commerce-awards-banquet-937
END:VEVENT

END:VCALENDAR
